BEGIN:VCALENDAR
VERSION:2.0
PRODID:-//Tukios.com/
BEGIN:VEVENT
UID:8dfabe24-2cd7-4737-913e-85b6e95a4910@www.oconnorfuneralhome.com
DTSTAMP:20260421T191915Z
DTSTART:20260426T190000Z
DTEND:20260426T200000Z
SUMMARY:Celebration of Life
DESCRIPTION:
URL:https://www.oconnorfuneralhome.com/obituaries/daniel-dan-mathes
LOCATION:Great Falls Elks Lodge 500 1st Avenue South  Great Falls MT 
	59401
GEO:47.5038646;-111.2986198
END:VEVENT
END:VCALENDAR