BEGIN:VCALENDAR
VERSION:2.0
PRODID:-//Tukios.com/
BEGIN:VEVENT
UID:697f835f-baea-4812-a4d9-8e18f41dfb1f@www.oconnorfuneralhome.com
DTSTAMP:20260423T230300Z
DTSTART:20260501T190000Z
DTEND:20260501T200000Z
SUMMARY:Memorial Gathering
DESCRIPTION:
URL:https://www.oconnorfuneralhome.com/obituaries/shirley-lybeck
LOCATION:Glacier Memorial Garden 2659 U.S. 93  Kalispell MT 59901
GEO:48.246398;-114.3300428
END:VEVENT
END:VCALENDAR